BEGIN:VCALENDAR
VERSION:2.0
PRODID:-//The Maria Montessori Center - ECPv6.2.2//NONSGML v1.0//EN
CALSCALE:GREGORIAN
METHOD:PUBLISH
X-ORIGINAL-URL:https://mmcfh.com
X-WR-CALDESC:Events for The Maria Montessori Center
REFRESH-INTERVAL;VALUE=DURATION:PT1H
X-Robots-Tag:noindex
X-PUBLISHED-TTL:PT1H
BEGIN:VTIMEZONE
TZID:UTC
BEGIN:STANDARD
TZOFFSETFROM:+0000
TZOFFSETTO:+0000
TZNAME:UTC
DTSTART:20230101T000000
END:STANDARD
END:VTIMEZONE
BEGIN:VEVENT
DTSTART;TZID=UTC:20230520T090000
DTEND;TZID=UTC:20230520T120000
DTSTAMP:20260424T051457
CREATED:20180816T160220Z
LAST-MODIFIED:20230902T111540Z
UID:5993-1684573200-1684584000@mmcfh.com
SUMMARY:Jump Rope for Heart
DESCRIPTION:  \nCelebrating the American Heart Association during the moth if May is a great tradition we at the MMC partake in to spread awareness and raise money for the AHA.Children get to educate each other on how being heart healthy is extremely \nimportant and how they can apply this knowledge to themselves and spread awareness in their community. We dedicate a day to healthy activities and friendly competitions involving many different exercises to keep ourselves healthy!
URL:https://mmcfh.com/event/jump-rope-for-heart/
LOCATION:MMCFH Hall\, 32450 W 13 Mile road\, Farmington Hills\, MI\, 48334\, United States
CATEGORIES:Event Calendar
ATTACH;FMTTYPE=image/jpeg:https://mmcfh.com/wp-content/uploads/2023/08/IMG_20190517_140701-scaled-e1693150387818.jpg
ORGANIZER;CN="MMC":MAILTO:mmcinfo@mmcfh.org
END:VEVENT
END:VCALENDAR