BEGIN:VCALENDAR
VERSION:2.0
PRODID:-//The Maria Montessori Center - ECPv6.2.2//NONSGML v1.0//EN
CALSCALE:GREGORIAN
METHOD:PUBLISH
X-WR-CALNAME:The Maria Montessori Center
X-ORIGINAL-URL:https://mmcfh.com
X-WR-CALDESC:Events for The Maria Montessori Center
REFRESH-INTERVAL;VALUE=DURATION:PT1H
X-Robots-Tag:noindex
X-PUBLISHED-TTL:PT1H
BEGIN:VTIMEZONE
TZID:UTC
BEGIN:STANDARD
TZOFFSETFROM:+0000
TZOFFSETTO:+0000
TZNAME:UTC
DTSTART:20220101T000000
END:STANDARD
END:VTIMEZONE
BEGIN:VEVENT
DTSTART;TZID=UTC:20220923T103000
DTEND;TZID=UTC:20220923T123000
DTSTAMP:20260425T063817
CREATED:20230805T155533Z
LAST-MODIFIED:20230902T112049Z
UID:5986-1663929000-1663936200@mmcfh.com
SUMMARY:Grand Parents Day
DESCRIPTION:  \nStudents loved showing off their work in school by having their grandparents come in to spend a morning with them. Having our students’ grandparents come in created a great sense of pride and joy and allowed the\, to bond over the similarities and differences in the generational gap of their educational careers. \n\n\n\n\n\n\n\n\n\n 
URL:https://mmcfh.com/event/grand-parents-day/
LOCATION:MMCFH Hall\, 32450 W 13 Mile road\, Farmington Hills\, MI\, 48334\, United States
CATEGORIES:Event Calendar
ATTACH;FMTTYPE=image/jpeg:https://mmcfh.com/wp-content/uploads/2023/08/GrandParentday_1_OK-e1693149717684.jpg
ORGANIZER;CN="MMC":MAILTO:mmcinfo@mmcfh.org
END:VEVENT
BEGIN:VEVENT
DTSTART;TZID=UTC:20220909T180000
DTEND;TZID=UTC:20220909T203000
DTSTAMP:20260425T063817
CREATED:20180816T155247Z
LAST-MODIFIED:20230902T104510Z
UID:5984-1662746400-1662755400@mmcfh.com
SUMMARY:Holiday Program
DESCRIPTION:  \nWinter songs performed by our primary class and an original play written and performed by the Lower Elementary class\, teaching everyone about health and nutrition in foods that we eat. Our upper elementary students also wrote and performed their own play about how honesty and hard work will always triumph. A night with performances and yummy sweet treats.
URL:https://mmcfh.com/event/holiday-program/
LOCATION:First Presbyterian Church of Farmington\, 26165 Farmington Rd\, Farmington Hills\, MI\, 48334\, United States
CATEGORIES:Event Calendar
ATTACH;FMTTYPE=image/jpeg:https://mmcfh.com/wp-content/uploads/2018/08/MMC-Holiday-Event-1-e1693150508865.jpeg
ORGANIZER;CN="MMC & MMCPA":MAILTO:mmcinfo@mmcfh.org
END:VEVENT
END:VCALENDAR