BEGIN:VCALENDAR
VERSION:2.0
PRODID:-//The Maria Montessori Center - ECPv6.2.2//NONSGML v1.0//EN
CALSCALE:GREGORIAN
METHOD:PUBLISH
X-WR-CALNAME:The Maria Montessori Center
X-ORIGINAL-URL:https://mmcfh.com
X-WR-CALDESC:Events for The Maria Montessori Center
REFRESH-INTERVAL;VALUE=DURATION:PT1H
X-Robots-Tag:noindex
X-PUBLISHED-TTL:PT1H
BEGIN:VTIMEZONE
TZID:America/New_York
BEGIN:DAYLIGHT
TZOFFSETFROM:-0500
TZOFFSETTO:-0400
TZNAME:EDT
DTSTART:20230312T070000
END:DAYLIGHT
BEGIN:STANDARD
TZOFFSETFROM:-0400
TZOFFSETTO:-0500
TZNAME:EST
DTSTART:20231105T060000
END:STANDARD
END:VTIMEZONE
BEGIN:VEVENT
DTSTART;TZID=America/New_York:20231113T080000
DTEND;TZID=America/New_York:20231117T170000
DTSTAMP:20260422T183804
CREATED:20231028T062623Z
LAST-MODIFIED:20231028T062623Z
UID:8048-1699862400-1700240400@mmcfh.com
SUMMARY:Food Drive for CARES
DESCRIPTION:
URL:https://mmcfh.com/event/food-drive-for-cares/
LOCATION:MMCFH Hall\, 32450 W 13 Mile road\, Farmington Hills\, MI\, 48334\, United States
CATEGORIES:Event Calendar
END:VEVENT
BEGIN:VEVENT
DTSTART;TZID=America/New_York:20231117T080000
DTEND;TZID=America/New_York:20231117T170000
DTSTAMP:20260422T183804
CREATED:20231028T062744Z
LAST-MODIFIED:20231028T062744Z
UID:8050-1700208000-1700240400@mmcfh.com
SUMMARY:Parent Teacher Conference
DESCRIPTION:
URL:https://mmcfh.com/event/parent-teacher-conference/
LOCATION:MMCFH Hall\, 32450 W 13 Mile road\, Farmington Hills\, MI\, 48334\, United States
END:VEVENT
BEGIN:VEVENT
DTSTART;TZID=America/New_York:20231122T080000
DTEND;TZID=America/New_York:20231123T170000
DTSTAMP:20260422T183804
CREATED:20231028T062911Z
LAST-MODIFIED:20231028T062911Z
UID:8052-1700640000-1700758800@mmcfh.com
SUMMARY:Thanksgiving Break
DESCRIPTION:School will be close for Thanksgiving break
URL:https://mmcfh.com/event/thanksgiving-break/
LOCATION:MI
ORGANIZER;CN="MMC":MAILTO:mmcinfo@mmcfh.org
END:VEVENT
BEGIN:VEVENT
DTSTART;TZID=America/New_York:20231208T080000
DTEND;TZID=America/New_York:20231208T170000
DTSTAMP:20260422T183804
CREATED:20231028T063121Z
LAST-MODIFIED:20231028T063121Z
UID:8054-1702022400-1702054800@mmcfh.com
SUMMARY:Holiday Party
DESCRIPTION:Details to follow
URL:https://mmcfh.com/event/holiday-party/
LOCATION:MMCFH Hall\, 32450 W 13 Mile road\, Farmington Hills\, MI\, 48334\, United States
END:VEVENT
END:VCALENDAR