BEGIN:VCALENDAR
VERSION:2.0
PRODID:-//The Maria Montessori Center - ECPv6.2.2//NONSGML v1.0//EN
CALSCALE:GREGORIAN
METHOD:PUBLISH
X-WR-CALNAME:The Maria Montessori Center
X-ORIGINAL-URL:https://mmcfh.com
X-WR-CALDESC:Events for The Maria Montessori Center
REFRESH-INTERVAL;VALUE=DURATION:PT1H
X-Robots-Tag:noindex
X-PUBLISHED-TTL:PT1H
BEGIN:VTIMEZONE
TZID:America/New_York
BEGIN:DAYLIGHT
TZOFFSETFROM:-0500
TZOFFSETTO:-0400
TZNAME:EDT
DTSTART:20230312T070000
END:DAYLIGHT
BEGIN:STANDARD
TZOFFSETFROM:-0400
TZOFFSETTO:-0500
TZNAME:EST
DTSTART:20231105T060000
END:STANDARD
END:VTIMEZONE
BEGIN:VEVENT
DTSTART;TZID=America/New_York:20231208T080000
DTEND;TZID=America/New_York:20231208T170000
DTSTAMP:20260422T054736
CREATED:20231028T063121Z
LAST-MODIFIED:20231028T063121Z
UID:8054-1702022400-1702054800@mmcfh.com
SUMMARY:Holiday Party
DESCRIPTION:Details to follow
URL:https://mmcfh.com/event/holiday-party/
LOCATION:MMCFH Hall\, 32450 W 13 Mile road\, Farmington Hills\, MI\, 48334\, United States
END:VEVENT
END:VCALENDAR