BEGIN:VCALENDAR
VERSION:2.0
PRODID:-//The Maria Montessori Center - ECPv6.2.2//NONSGML v1.0//EN
CALSCALE:GREGORIAN
METHOD:PUBLISH
X-WR-CALNAME:The Maria Montessori Center
X-ORIGINAL-URL:https://mmcfh.com
X-WR-CALDESC:Events for The Maria Montessori Center
REFRESH-INTERVAL;VALUE=DURATION:PT1H
X-Robots-Tag:noindex
X-PUBLISHED-TTL:PT1H
BEGIN:VTIMEZONE
TZID:UTC
BEGIN:STANDARD
TZOFFSETFROM:+0000
TZOFFSETTO:+0000
TZNAME:UTC
DTSTART:20230101T000000
END:STANDARD
END:VTIMEZONE
BEGIN:VEVENT
DTSTART;TZID=UTC:20230827T080000
DTEND;TZID=UTC:20230827T170000
DTSTAMP:20260422T054330
CREATED:20230925T171906Z
LAST-MODIFIED:20230925T173737Z
UID:7457-1693123200-1693155600@mmcfh.com
SUMMARY:Ice Cream Social
DESCRIPTION:A Sweet Start to the School Year\nTo kick off the new school year and celebrate our wonderful MMCFH community\, we are hosting an Ice Cream Social event just before school reopens. Looking forward to seeing you all at the MMCFH   schoolyard\, sharing stories of our summer adventures\, and indulging in delicious ice cream sundaes.
URL:https://mmcfh.com/event/ice-cream-social/
LOCATION:MMCFH Hall\, 32450 W 13 Mile road\, Farmington Hills\, MI\, 48334\, United States
CATEGORIES:Event Calendar
ATTACH;FMTTYPE=image/jpeg:https://mmcfh.com/wp-content/uploads/2023/09/DSCN0074-1.jpg
ORGANIZER;CN="MMC":MAILTO:mmcinfo@mmcfh.org
END:VEVENT
END:VCALENDAR